BEGIN:VCALENDAR
VERSION:2.0
PRODID:-//WBT Result Service - ECPv6.15.14//NONSGML v1.0//EN
CALSCALE:GREGORIAN
METHOD:PUBLISH
X-ORIGINAL-URL:https://wbtresults.org
X-WR-CALDESC:Events for WBT Result Service
REFRESH-INTERVAL;VALUE=DURATION:PT1H
X-Robots-Tag:noindex
X-PUBLISHED-TTL:PT1H
BEGIN:VTIMEZONE
TZID:Europe/Paris
BEGIN:DAYLIGHT
TZOFFSETFROM:+0100
TZOFFSETTO:+0200
TZNAME:CEST
DTSTART:20220327T010000
END:DAYLIGHT
BEGIN:STANDARD
TZOFFSETFROM:+0200
TZOFFSETTO:+0100
TZNAME:CET
DTSTART:20221030T010000
END:STANDARD
BEGIN:DAYLIGHT
TZOFFSETFROM:+0100
TZOFFSETTO:+0200
TZNAME:CEST
DTSTART:20230326T010000
END:DAYLIGHT
BEGIN:STANDARD
TZOFFSETFROM:+0200
TZOFFSETTO:+0100
TZNAME:CET
DTSTART:20231029T010000
END:STANDARD
BEGIN:DAYLIGHT
TZOFFSETFROM:+0100
TZOFFSETTO:+0200
TZNAME:CEST
DTSTART:20240331T010000
END:DAYLIGHT
BEGIN:STANDARD
TZOFFSETFROM:+0200
TZOFFSETTO:+0100
TZNAME:CET
DTSTART:20241027T010000
END:STANDARD
END:VTIMEZONE
BEGIN:VEVENT
DTSTART;TZID=Europe/Paris:20231016T000000
DTEND;TZID=Europe/Paris:20231020T235959
DTSTAMP:20260422T161744
CREATED:20230102T210439Z
LAST-MODIFIED:20231013T121504Z
UID:10000065-1697414400-1697846399@wbtresults.org
SUMMARY:WBT Masters Copenhagen
DESCRIPTION:Entries\n\n\n\nTime schedule\n\n\n\nRESULTS\n\n\n\nC-O-C\n\n\n\nConvention cards\n\n\n\nPrize pool\n\n\n\nHotel\n\n\n\nSabine’s tips\n\n\n\n\n\n\n\nGame time CET (EST) The event starts Monday at 15:30 and ends Friday at 17.50. Date Oct 16th 2023 - Oct 20th 2023 Tournament fee € 3 000 Format LIVE Monday to Thursday we play 15 Rounds of Round Robin each with 14 boards (1 X 14 boards). On Friday Top 4 in Round Robin play Semi-Final and Finals (2 X 12 boards). The other teams play 4 rounds of Swiss each 12 boards (last round Danish) In the Swiss there is a carry-over of 1/3 of VPs scored in the Round Robin. Boards 258 Venue NH Collections Hotel Copenhagen\, DenmarkOrganizers World Bridge HoldingTournament directors Kuba Kasprzak & Aleksander Krych Min/max no. of teams 16 Additional info Registrations for the event is open until 27th of August. The organizer may accept entries after 27th of August on its own discretion. NH Collections offers a solid discount on their hotel rates on our site. All players are required to purchase a day-package at NH Collections. If you have any questions\, please contact us at info@worldbridgetour.org or contact Thomas Charlsen at +47 90803060. Table Plugin\n\n\n\nEntries\n\n\n\n\n\n\nTime Schedule\n\n\n\nMonday \n\n\n\n15:10Captains meeting15:30 – 17:15Round Robin 1/15\, 14 boards17:25 – 19:10Round Robin 2/15\, 14 boards19:20 – 21:05Round Robin 3/15\, 14 boards\n\n\n\nTuesday \n\n\n\n10:30 – 12:15Round Robin 4/15\, 14 boards12:30 – 14:15Round Robin 5/15\, 14 boards14:15 – 15:30Lunch break15:30 – 17:15Round Robin 6/15\, 14 boards17:30 – 19.15Round Robin 7/15\, 14 boards\n\n\n\nWednesday \n\n\n\n10:30 – 12:15Round Robin 8/15\, 14 boards12:30 – 14:15Round Robin 9/15\, 14 boards14:15 – 15:30Lunch break15:30 – 17:15Round Robin 10/15\, 14 boards17:30 – 19.15Round Robin 11/15\, 14 boards\n\n\n\nThursday \n\n\n\n10:30 – 12:15Round Robin 12/15\, 14 boards12:30 – 14:15Round Robin 13/15\, 14 boards14:15 – 15:30Lunch break15:30 – 17:15Round Robin 14/15\, 14 boards17:30 – 19.15Round Robin 15/15\, 14 boards\n\n\n\nFriday \n\n\n\n10:30 – 12:00Semi-Final 1st segment / Swiss Round 112:10 – 13:40Semi-Final 2nd segment / Swiss Round 213:40 – 14:40Lunch break14:40 – 16:10Finals 1st segment / Swiss Round 316:20 – 17:50Finals 2nd segment / Swiss Round 4 (Danish)18:10 –Prize Giving Ceremony
URL:https://wbtresults.org/event/wbt-masters-copenhagen/
CATEGORIES:WBT Champions Tour,WBT Masters
ATTACH;FMTTYPE=image/png:https://wbtresults.org/wp-content/uploads/2023/01/wbtbanner-cph-2023.png
ORGANIZER;CN="World Bridge Holding":MAILTO:info@worldbridgetour.org
END:VEVENT
END:VCALENDAR