BEGIN:VCALENDAR
VERSION:2.0
PRODID:-//WBT Result Service - ECPv6.15.14//NONSGML v1.0//EN
CALSCALE:GREGORIAN
METHOD:PUBLISH
X-WR-CALNAME:WBT Result Service
X-ORIGINAL-URL:https://wbtresults.org
X-WR-CALDESC:Events for WBT Result Service
REFRESH-INTERVAL;VALUE=DURATION:PT1H
X-Robots-Tag:noindex
X-PUBLISHED-TTL:PT1H
BEGIN:VTIMEZONE
TZID:Europe/Paris
BEGIN:DAYLIGHT
TZOFFSETFROM:+0100
TZOFFSETTO:+0200
TZNAME:CEST
DTSTART:20230326T010000
END:DAYLIGHT
BEGIN:STANDARD
TZOFFSETFROM:+0200
TZOFFSETTO:+0100
TZNAME:CET
DTSTART:20231029T010000
END:STANDARD
BEGIN:DAYLIGHT
TZOFFSETFROM:+0100
TZOFFSETTO:+0200
TZNAME:CEST
DTSTART:20240331T010000
END:DAYLIGHT
BEGIN:STANDARD
TZOFFSETFROM:+0200
TZOFFSETTO:+0100
TZNAME:CET
DTSTART:20241027T010000
END:STANDARD
BEGIN:DAYLIGHT
TZOFFSETFROM:+0100
TZOFFSETTO:+0200
TZNAME:CEST
DTSTART:20250330T010000
END:DAYLIGHT
BEGIN:STANDARD
TZOFFSETFROM:+0200
TZOFFSETTO:+0100
TZNAME:CET
DTSTART:20251026T010000
END:STANDARD
END:VTIMEZONE
BEGIN:VEVENT
DTSTART;TZID=Europe/Paris:20241007T000000
DTEND;TZID=Europe/Paris:20241011T235959
DTSTAMP:20260425T141114
CREATED:20240103T204223Z
LAST-MODIFIED:20241012T080337Z
UID:10000088-1728259200-1728691199@wbtresults.org
SUMMARY:WBT Masters Copenhagen 2024
DESCRIPTION:Entries\n\n\n\nRESULTS\n\n\n\nWBT APP\n\n\n\n\n\n\n\nGame time CET (EST) The event starts Monday at 15:30 and ends Friday at 17.50. Date Oct 7th 2024 - Oct 11th 2024 Tournament fee € 3 000 Format LIVE Monday to Thursday we play 15 Rounds of Round Robin\, each with 14 boards (1 X 14 boards). On Friday Top 4 in the Round Robin play Semi-Final and Finals (2 X 12 boards). The other teams play 4 rounds of Swiss each 12 boards (last round Danish) In the Swiss there is a carry-over of 1/3 of VPs scored in the Round Robin.. The winner of Round Robin selects opponent among teams ending 3rd and 4th in the Round Robin. Carry Over is based on the internal matches in Round Robin where the Top ranked team is guaranteed a min of 0\,1 IMP and max 12\,1 IMPs (1/3 of the imp difference). The highest ranked team in the final will have a 0\,1 IMP carry-over. Final format may be adjusted depending on number of teams registering for the event. Boards 258 Venue NH Collections Hotel Copenhagen\, DenmarkOrganizers World Bridge HoldingTournament directors Kuba Kasprzak & Aleksander Krych Min/max no. of teams 12/16 Additional info REGISTRATION COMPLETE Table Plugin\n\n\n\nEntries\n\n\n\n\n\n\nTime Schedule\n\n\n\nMonday \n\n\n\n15:10Captains meeting15:30 – 17:15Swiss round 1/15\, 14 boards17:25 – 19:10Swiss round 2/15\, 14 boards19:20 – 21:05Swiss round 3/15\, 14 boards\n\n\n\nTuesday \n\n\n\n10:30 – 12:15Swiss round 4/15\, 14 boards12:30 – 14:15Swiss round 5/15\, 14 boards14:15 – 15:30Lunch break15:30 – 17:15Swiss round 6/15\, 14 boards17:30 – 19.15Swiss round 7/15\, 14 boards\n\n\n\nWednesday \n\n\n\n10:30 – 12:15Swiss round 8/15\, 14 boards12:30 – 14:15Swiss round 9/15\, 14 boards14:15 – 15:30Lunch break15:30 – 17:15Swiss round 10/15\, 14 boards17:30 – 19.15Swiss round 11/15\, 14 boards\n\n\n\nThursday \n\n\n\n10:30 – 12:15Swiss round 12/15\, 14 boards12:30 – 14:15Swiss round 13/15\, 14 boards14:15 – 15:30Lunch break15:30 – 17:15Swiss round 14/15\, 14 boards17:30 – 19.15Swiss round 15/15\, 14 boards\n\n\n\nFriday \n\n\n\n10:30 – 12:00Semi-Final 1st segment / Swiss Round 112:10 – 13:40Semi-Final 2nd segment / Swiss Round 213:40 – 14:40Lunch break14:40 – 16:10Finals 1st segment / Swiss Round 316:20 – 17:50Finals 2nd segment / Swiss Round 4 (Danish)18:10 –Prize Giving Ceremony
URL:https://wbtresults.org/event/wbt-masters-copenhagen-2024/
CATEGORIES:WBT Champions Tour,WBT Masters
ATTACH;FMTTYPE=image/png:https://wbtresults.org/wp-content/uploads/2024/01/wbtbanner-cph-2024.png
ORGANIZER;CN="World Bridge Holding":MAILTO:info@worldbridgetour.org
END:VEVENT
END:VCALENDAR