BEGIN:VCALENDAR
VERSION:2.0
PRODID:-//WBT Result Service - ECPv6.15.14//NONSGML v1.0//EN
CALSCALE:GREGORIAN
METHOD:PUBLISH
X-ORIGINAL-URL:https://wbtresults.org
X-WR-CALDESC:Events for WBT Result Service
REFRESH-INTERVAL;VALUE=DURATION:PT1H
X-Robots-Tag:noindex
X-PUBLISHED-TTL:PT1H
BEGIN:VTIMEZONE
TZID:Europe/Paris
BEGIN:DAYLIGHT
TZOFFSETFROM:+0100
TZOFFSETTO:+0200
TZNAME:CEST
DTSTART:20210328T010000
END:DAYLIGHT
BEGIN:STANDARD
TZOFFSETFROM:+0200
TZOFFSETTO:+0100
TZNAME:CET
DTSTART:20211031T010000
END:STANDARD
BEGIN:DAYLIGHT
TZOFFSETFROM:+0100
TZOFFSETTO:+0200
TZNAME:CEST
DTSTART:20220327T010000
END:DAYLIGHT
BEGIN:STANDARD
TZOFFSETFROM:+0200
TZOFFSETTO:+0100
TZNAME:CET
DTSTART:20221030T010000
END:STANDARD
BEGIN:DAYLIGHT
TZOFFSETFROM:+0100
TZOFFSETTO:+0200
TZNAME:CEST
DTSTART:20230326T010000
END:DAYLIGHT
BEGIN:STANDARD
TZOFFSETFROM:+0200
TZOFFSETTO:+0100
TZNAME:CET
DTSTART:20231029T010000
END:STANDARD
END:VTIMEZONE
BEGIN:VEVENT
DTSTART;TZID=Europe/Paris:20220704T000000
DTEND;TZID=Europe/Paris:20220707T235959
DTSTAMP:20260426T005720
CREATED:20220103T085007Z
LAST-MODIFIED:20220707T192930Z
UID:10000072-1656892800-1657238399@wbtresults.org
SUMMARY:WBT Champions Cup V
DESCRIPTION:REGISTER\n\n\n\nENTRIES\n\n\n\nLINEUPS\n\n\n\nConvention cards\n\n\n\nC-O-C\n\n\n\nResults\n\n\n\n\n \n\n\n\n\n\n\n\nGame time CET (EST) 16:00 (10:00) / 17:40 (11:40) / 19:30 (13:30) / 21:10 (15:10) Final/3rd Place Play-Off: 19:30 (13:30) / 21:10 (15:10) Date July 4th - July 7th Tournament fee €800 per team Format Online Boards 4 x 12 boards\, 14 Rounds Double Round Robin Semi-Final/Final: 2 x 12 boards. 1-2 and 3-4 play 2 x 12 boards for 1st and 3rd place\, 5-8 is eliminated after RR. Venue BBOOrganizers World Bridge HoldingTournament directors Kuba Kasprzak & Aleksander Krych Additional info If you have any questions\, please contact info@worldbridgetour.org Table Plugin\n\n\n\n\n\n\n\n\nEntries\n\n\n\n\n\n\n\n\n\n\nLineups
URL:https://wbtresults.org/event/wbt-champions-cup-v/
LOCATION:BBO – Bridge Base Online
CATEGORIES:WBT Champions Cup,World Bridge Tour
ATTACH;FMTTYPE=image/png:https://wbtresults.org/wp-content/uploads/2022/01/wbtchampionscupbanner-jul22.png
ORGANIZER;CN="World Bridge Holding":MAILTO:info@worldbridgetour.org
END:VEVENT
END:VCALENDAR